Workbook

Sheet 앞장
J2: 5
A9: 네오소프트 센스 사용 내역서
A10: =J2&"월" -> 5월
A16: 기간 : 2026년5월1일~5월31일까지
J17: ='병원별 총금액'!E64*0.015 -> 1207409.4
A18: 사용료 : 1,207,409원 | J18: =J17*0.1 -> 120740.94
A19: 부가세 : 120,740원 | J19: =SUM(J17:J18) -> 1328150.4
A20: 합계금액 : 1,328,149원
J22: ='병원별 총금액'!B64 -> 2
A23: 사용거래처(병원): 2개 | J23: ='병원별 총금액'!D64 -> 4497
A24: 사용건수(전송): 4,497 건
A35: 의료법인 이윈의료재단

Sheet 병원별 총금액
A2: ="2026년 "&앞장!J2&"월 센스 병원별 사용내역서" -> 2026년 5월 센스 병원별 사용내역서
A4: 병원코드 | B4: 병원명 | C4: 요양기관번호 | D4: 건수 | E4: 총금액 | F4: 0.015
A5: 228957 | B5: 우먼플러스여성전문병원 | C5: 31356427 | D5: 3561 | E5: 48907292 | F5: =E5*$F$4 -> 733609.38
A6: 519080 | B6: 광주시엘병원 | C6: 36201979 | D6: 936 | E6: 31586670 | F6: =E6*$F$4 -> 473800.05
F7: =E7*$F$4 -> 0
F8: =E8*$F$4 -> 0
F9: =E9*$F$4 -> 0
F10: =E10*$F$4 -> 0
F11: =E11*$F$4 -> 0
F12: =E12*$F$4 -> 0
F13: =E13*$F$4 -> 0
F14: =E14*$F$4 -> 0
F15: =E15*$F$4 -> 0
F16: =E16*$F$4 -> 0
F17: =E17*$F$4 -> 0
F18: =E18*$F$4 -> 0
... F63: =E63*$F$4 -> 0
A64: 합 계 | B64: =COUNTA(B5:B63) -> 2 | D64: =SUM(D5:D63) -> 4497 | E64: =SUM(E5:E63) -> 80493962 | F64: =SUM(F5:F63) -> 1207409.4

Sheet 거래처별 전송내역(월별)
A2: ="2026년 "&앞장!J2&"월 센스 거래처별 전송내역" -> 2026년 5월 센스 거래처별 전송내역
A4: 정산 월 | B4: 병원코드 | C4: 병원명 | D4: 요양기관번호 | E4: 검사코드 | F4: 검사명 | G4: 건수 | H4: 총금액 | I4: 수수료
A5: 202605 | B5: 228957 | C5: 우먼플러스여성전문병원 | D5: 31356427 | E5: C5921 | F5: PAP stain | G5: 194 | H5: 2106840 | I5: =H5*0.015 -> 31602.6
A6: 202605 | B6: 228957 | C6: 우먼플러스여성전문병원 | D6: 31356427 | E6: C5943 | F6: Liquid-based Aspiration Cytopathology | G6: 18 | H6: 671040 | I6: =H6*0.015 -> 10065.6
A7: 202605 | B7: 228957 | C7: 우먼플러스여성전문병원 | D7: 31356427 | E7: A0031 | F7: DHEA-Sulfate (RIA) | G7: 53 | H7: 780690 | I7: =H7*0.015 -> 11710.35
A8: 202605 | B8: 228957 | C8: 우먼플러스여성전문병원 | D8: 31356427 | E8: A0047 | F8: Sequential test (초기) | G8: 8 | H8: 232200 | I8: =H8*0.015 -> 3483
A9: 202605 | B9: 228957 | C9: 우먼플러스여성전문병원 | D9: 31356427 | E9: A0049 | F9: Sequential test | G9: 13 | H9: 837980 | I9: =H9*0.015 -> 12569.7
A10: 202605 | B10: 228957 | C10: 우먼플러스여성전문병원 | D10: 31356427 | E10: A0118 | F10: LDL-Cholesterol | G10: 106 | H10: 692180 | I10: =H10*0.015 -> 10382.7
A11: 202605 | B11: 228957 | C11: 우먼플러스여성전문병원 | D11: 31356427 | E11: A1638 | F11: Estradiol (E2) | G11: 178 | H11: 2363840 | I11: =H11*0.015 -> 35457.6
A12: 202605 | B12: 228957 | C12: 우먼플러스여성전문병원 | D12: 31356427 | E12: A4473 | F12: HSV Type 1 IgM | G12: 1 | H12: 16830 | I12: =H12*0.015 -> 252.45
A13: 202605 | B13: 228957 | C13: 우먼플러스여성전문병원 | D13: 31356427 | E13: A6900 | F13: Anti Mullerian Hormone | G13: 111 | H13: 5536680 | I13: =H13*0.015 -> 83050.2
A14: 202605 | B14: 228957 | C14: 우먼플러스여성전문병원 | D14: 31356427 | E14: B2491 | F14: Lithium | G14: 1 | H14: 8460 | I14: =H14*0.015 -> 126.9
A15: 202605 | B15: 228957 | C15: 우먼플러스여성전문병원 | D15: 31356427 | E15: B2500 | F15: Protein Total | G15: 1 | H15: 1380 | I15: =H15*0.015 -> 20.7
A16: 202605 | B16: 228957 | C16: 우먼플러스여성전문병원 | D16: 31356427 | E16: B2510 | F16: Albumin | G16: 1 | H16: 1620 | I16: =H16*0.015 -> 24.3
... A183: 202605 | B183: 519080 | C183: 광주시엘병원 | D183: 36201979 | E183: C5930 | F183: Non-Gy Cytology | G183: 4 | H183: 50880 | I183: =H183*0.015 -> 763.2
A184: 합 계 | G184: =SUM(G5:G183) -> 4497 | H184: =SUM(H5:H183) -> 80493962 | I184: =SUM(I5:I183) -> 1207409.4
